BEGIN:VCALENDAR
VERSION:2.0
PRODID:-//Tukios.com/
BEGIN:VEVENT
UID:a1dec9f2-69c2-40e1-b9dd-7ce40c53daed@www.allenmemorial.com
DTSTAMP:20260421T192842Z
DTSTART:20260427T210000Z
DTEND:20260427T220000Z
SUMMARY:Funeral Service
DESCRIPTION:
URL:https://www.allenmemorial.com/obituaries/diane-bartilotti
LOCATION:CalTab Church 729 Main Street  Vestal NY 13850
GEO:42.0777402;-76.0509308
END:VEVENT
END:VCALENDAR