BEGIN:VCALENDAR
VERSION:2.0
PRODID:-//Tukios.com/
BEGIN:VEVENT
UID:e29836a8-b1cd-41b7-b87a-04dd8dbc3e2b@www.allenmemorial.com
DTSTAMP:20260421T192843Z
DTSTART:20260427T190000Z
DTEND:20260427T210000Z
SUMMARY:Visitation
DESCRIPTION:
URL:https://www.allenmemorial.com/obituaries/diane-bartilotti
LOCATION:CalTab Church 729 Main Street  Vestal NY 13850
GEO:42.0777402;-76.0509308
END:VEVENT
END:VCALENDAR