BEGIN:VCALENDAR
VERSION:2.0
PRODID:-//Tukios.com/
BEGIN:VEVENT
UID:ef3a6931-f5f6-4cc6-ab06-b92e96541c40@www.allenmemorial.com
DTSTAMP:20260423T090405Z
DTSTART:20260427T140000Z
DTEND:20260427T150000Z
SUMMARY:Visitation
DESCRIPTION:
URL:https://www.allenmemorial.com/obituaries/harold-sabol
LOCATION:St. Anthony of Padua Church 306 Odell Avenue  Endicott NY 13760
GEO:42.1132473;-76.0489763
END:VEVENT
END:VCALENDAR