BEGIN:VCALENDAR
VERSION:2.0
PRODID:-//Tukios.com/
BEGIN:VEVENT
UID:831a0a73-da34-42cd-8353-2b60ccc269ba@www.allenmemorial.com
DTSTAMP:20260423T085143Z
DTSTART:20260427T150000Z
DTEND:20260427T160000Z
SUMMARY:Funeral Mass
DESCRIPTION:
URL:https://www.allenmemorial.com/obituaries/harold-sabol
LOCATION:St. Anthony of Padua Church 306 Odell Avenue  Endicott NY 13760
GEO:42.1132473;-76.0489763
END:VEVENT
END:VCALENDAR