BEGIN:VCALENDAR
VERSION:2.0
PRODID:-//Tukios.com/
BEGIN:VEVENT
UID:eb4f4aed-c905-4ce2-8315-e7ce959dd096@www.allenmemorial.com
DTSTAMP:20260423T002125Z
DTSTART:20260428T140000Z
DTEND:20260428T150000Z
SUMMARY:Visitation
DESCRIPTION:
URL:https://www.allenmemorial.com/obituaries/joseph-dwyer-ii
LOCATION:Church of the Holy Family 3600 Phyllis Street  Endwell NY 13760
GEO:42.1206956;-76.0235048
END:VEVENT
END:VCALENDAR