BEGIN:VCALENDAR
VERSION:2.0
PRODID:-//Tukios.com/
BEGIN:VEVENT
UID:d8864fef-790a-449c-b111-a44b5a3bc8e7@www.allenmemorial.com
DTSTAMP:20260420T185023Z
DTSTART:20260424T150000Z
DTEND:20260424T160000Z
SUMMARY:Funeral Mass
DESCRIPTION:
URL:https://www.allenmemorial.com/obituaries/sally-russell
LOCATION:St. Joseph's Church 207 Hayes Avenue  Endicott NY 13760
GEO:42.1117731;-76.0402335
END:VEVENT
END:VCALENDAR