BEGIN:VCALENDAR
VERSION:2.0
PRODID:-//Tukios.com/
BEGIN:VEVENT
UID:46505bc8-83cf-4c29-978a-10a9da85f18a@www.allenmemorial.com
DTSTAMP:20260420T214317Z
DTSTART:20260422T190000Z
DTEND:20260422T200000Z
SUMMARY:Celebration of Life
DESCRIPTION:
URL:https://www.allenmemorial.com/obituaries/william-zimmer
LOCATION:Old Union Hotel 246 Clinton Street  Binghamton NY 13905
GEO:42.1076688;-75.9314904
END:VEVENT
END:VCALENDAR